BEGIN:VCALENDAR
VERSION:2.0
PRODID:-//ConVerve GmbH//B2BMatch//EN
METHOD:PUBLISH
BEGIN:VEVENT
DTSTART:20251014T060000Z
DTEND:20251017T200000Z
SUMMARY:W3Fit EMEA 2025
LOCATION:Higueron Hotel Malaga
DESCRIPTION:
UID:0000001
DTSTAMP:20180215T145139Z
END:VEVENT
END:VCALENDAR
